Package: BufferedMatrix Version: 1.73.0 Command: rm -rf BufferedMatrix.buildbin-libdir && mkdir BufferedMatrix.buildbin-libdir && /Users/biocbuild/BBS/utils/build-universal.sh BufferedMatrix_1.73.0.tar.gz /Library/Frameworks/R.framework/Resources/bin/R BufferedMatrix.buildbin-libdir StartedAt: 2025-09-29 22:29:01 -0400 (Mon, 29 Sep 2025) EndedAt: 2025-09-29 22:29:05 -0400 (Mon, 29 Sep 2025) EllapsedTime: 3.1 seconds RetCode: 0 Status: OK PackageFile: BufferedMatrix_1.73.0.tgz PackageFileSize: 708.5 KiB