Package: BrowserViz Version: 2.31.0 Command: rm -rf BrowserViz.buildbin-libdir && mkdir BrowserViz.buildbin-libdir && F:\biocbuild\bbs-3.22-bioc\R\bin\R.exe CMD INSTALL --build --library=BrowserViz.buildbin-libdir BrowserViz_2.31.0.tar.gz StartedAt: 2025-08-15 09:52:17 -0400 (Fri, 15 Aug 2025) EndedAt: 2025-08-15 09:52:39 -0400 (Fri, 15 Aug 2025) EllapsedTime: 22.2 seconds RetCode: 0 Status: OK PackageFile: BrowserViz_2.31.0.zip PackageFileSize: 428.9 KiB