Package: BridgeDbR Version: 2.17.1 Command: /Library/Frameworks/R.framework/Resources/bin/R CMD check --install=check:BridgeDbR.install-out.txt --library=/Library/Frameworks/R.framework/Resources/library --no-vignettes --timings BridgeDbR_2.17.1.tar.gz StartedAt: 2025-02-16 19:10:40 -0500 (Sun, 16 Feb 2025) EndedAt: 2025-02-16 19:11:31 -0500 (Sun, 16 Feb 2025) EllapsedTime: 51.2 seconds RetCode: 0 Status: OK CheckDir: BridgeDbR.Rcheck Warnings: 0