Package: BreastSubtypeR Version: 1.3.0 Maintainer: Qiao Yang MaintainerEmail: yq.kiuo at gmail.com git_url: https://git.bioconductor.org/packages/BreastSubtypeR git_branch: devel git_last_commit: 208bd46 git_last_commit_date: 2025-10-29 11:36:09 -0400 (Wed, 29 Oct 2025)