Package: BloodGen3Module Version: 1.17.0 Command: /home/biocbuild/R/R/bin/R CMD INSTALL BloodGen3Module StartedAt: 2025-10-09 21:21:02 -0000 (Thu, 09 Oct 2025) EndedAt: 2025-10-09 21:21:45 -0000 (Thu, 09 Oct 2025) EllapsedTime: 42.1 seconds RetCode: 0 Status: OK