Package: BloodGen3Module Version: 1.17.0 Command: /home/biocbuild/R/R/bin/R CMD build --keep-empty-dirs --no-resave-data BloodGen3Module StartedAt: 2025-10-09 23:09:57 -0000 (Thu, 09 Oct 2025) EndedAt: 2025-10-09 23:11:37 -0000 (Thu, 09 Oct 2025) EllapsedTime: 100.0 seconds RetCode: 0 Status: OK PackageFile: BloodGen3Module_1.17.0.tar.gz PackageFileSize: 179.3 KiB