Package: BloodGen3Module Version: 1.15.0 Command: /home/biocbuild/bbs-3.21-bioc/R/bin/R CMD INSTALL BloodGen3Module StartedAt: 2025-02-03 15:35:07 -0500 (Mon, 03 Feb 2025) EndedAt: 2025-02-03 15:35:37 -0500 (Mon, 03 Feb 2025) EllapsedTime: 30.9 seconds RetCode: 0 Status: OK