Package: BloodGen3Module Version: 1.15.0 Command: /home/biocbuild/bbs-3.21-bioc/R/bin/R CMD build --keep-empty-dirs --no-resave-data BloodGen3Module StartedAt: 2025-02-03 16:34:52 -0500 (Mon, 03 Feb 2025) EndedAt: 2025-02-03 16:36:03 -0500 (Mon, 03 Feb 2025) EllapsedTime: 71.0 seconds RetCode: 0 Status: OK PackageFile: BloodGen3Module_1.15.0.tar.gz PackageFileSize: 178.7 KiB