Package: BloodGen3Module Version: 1.17.0 Command: /Library/Frameworks/R.framework/Resources/bin/R CMD INSTALL BloodGen3Module StartedAt: 2025-05-05 15:20:54 -0400 (Mon, 05 May 2025) EndedAt: 2025-05-05 15:21:38 -0400 (Mon, 05 May 2025) EllapsedTime: 43.4 seconds RetCode: 0 Status: OK