Package: BloodGen3Module Version: 1.15.0 Command: /Library/Frameworks/R.framework/Resources/bin/R CMD build --keep-empty-dirs --no-resave-data BloodGen3Module StartedAt: 2025-02-03 16:08:57 -0500 (Mon, 03 Feb 2025) EndedAt: 2025-02-03 16:10:11 -0500 (Mon, 03 Feb 2025) EllapsedTime: 74.0 seconds RetCode: 0 Status: OK PackageFile: BloodGen3Module_1.15.0.tar.gz PackageFileSize: 178.8 KiB