Package: Biostrings Version: 2.77.0 Maintainer: Hervé Pagès MaintainerEmail: hpages.on.github at gmail.com git_url: https://git.bioconductor.org/packages/Biostrings git_branch: devel git_last_commit: 504fc67 git_last_commit_date: 2025-04-15 09:17:28 -0400 (Tue, 15 Apr 2025)