Package: BiocWorkflowTools Version: 1.35.0 Command: /home/biocbuild/R/R/bin/R CMD INSTALL BiocWorkflowTools StartedAt: 2025-10-13 20:45:26 -0000 (Mon, 13 Oct 2025) EndedAt: 2025-10-13 20:45:47 -0000 (Mon, 13 Oct 2025) EllapsedTime: 21.4 seconds RetCode: 0 Status: OK