Package: BiocWorkflowTools Version: 1.35.0 Command: /home/biocbuild/R/R/bin/R CMD build --keep-empty-dirs --no-resave-data BiocWorkflowTools StartedAt: 2025-10-13 22:41:47 -0000 (Mon, 13 Oct 2025) EndedAt: 2025-10-13 22:41:54 -0000 (Mon, 13 Oct 2025) EllapsedTime: 7.0 seconds RetCode: 0 Status: OK PackageFile: BiocWorkflowTools_1.35.0.tar.gz PackageFileSize: 999 KiB