Package: BiocWorkflowTools Version: 1.36.0 Command: /home/biocbuild/bbs-3.22-bioc/R/bin/R CMD check --install=check:BiocWorkflowTools.install-out.txt --library=/home/biocbuild/bbs-3.22-bioc/R/site-library --timings BiocWorkflowTools_1.36.0.tar.gz StartedAt: 2025-10-30 03:55:27 -0400 (Thu, 30 Oct 2025) EndedAt: 2025-10-30 03:56:04 -0400 (Thu, 30 Oct 2025) EllapsedTime: 37.1 seconds RetCode: 0 Status: OK CheckDir: BiocWorkflowTools.Rcheck Warnings: 0