Package: BiocWorkflowTools Version: 1.37.0 Command: /home/biocbuild/bbs-3.23-bioc/R/bin/R CMD INSTALL BiocWorkflowTools StartedAt: 2025-11-19 15:14:58 -0500 (Wed, 19 Nov 2025) EndedAt: 2025-11-19 15:15:08 -0500 (Wed, 19 Nov 2025) EllapsedTime: 9.6 seconds RetCode: 0 Status: OK