Package: BiocStyle Version: 2.37.0 Command: /Library/Frameworks/R.framework/Resources/bin/R CMD INSTALL BiocStyle StartedAt: 2025-05-08 15:07:18 -0400 (Thu, 08 May 2025) EndedAt: 2025-05-08 15:08:14 -0400 (Thu, 08 May 2025) EllapsedTime: 55.9 seconds RetCode: 0 Status: OK