Package: BiocSingular Version: 1.25.0 Command: /home/biocbuild/bbs-3.22-bioc/R/bin/R CMD INSTALL BiocSingular StartedAt: 2025-10-06 15:51:15 -0400 (Mon, 06 Oct 2025) EndedAt: 2025-10-06 15:51:44 -0400 (Mon, 06 Oct 2025) EllapsedTime: 28.3 seconds RetCode: 0 Status: OK