Package: BiocSingular Version: 1.25.0 Command: /home/biocbuild/bbs-3.22-bioc/R/bin/R CMD build --keep-empty-dirs --no-resave-data --md5 BiocSingular StartedAt: 2025-10-06 16:27:20 -0400 (Mon, 06 Oct 2025) EndedAt: 2025-10-06 16:28:00 -0400 (Mon, 06 Oct 2025) EllapsedTime: 40.1 seconds RetCode: 0 Status: OK PackageFile: BiocSingular_1.25.0.tar.gz PackageFileSize: 603.5 KiB