Package: BiocPkgTools Version: 1.27.12 Command: /home/biocbuild/bbs-3.22-bioc/R/bin/R CMD INSTALL BiocPkgTools StartedAt: 2025-09-30 15:14:20 -0400 (Tue, 30 Sep 2025) EndedAt: 2025-09-30 15:14:31 -0400 (Tue, 30 Sep 2025) EllapsedTime: 10.9 seconds RetCode: 0 Status: OK