Package: BiocPkgTools Version: 1.27.12 Command: /home/biocbuild/bbs-3.22-bioc/R/bin/R CMD build --keep-empty-dirs --no-resave-data --md5 BiocPkgTools StartedAt: 2025-09-30 16:27:42 -0400 (Tue, 30 Sep 2025) EndedAt: 2025-09-30 16:29:12 -0400 (Tue, 30 Sep 2025) EllapsedTime: 90.1 seconds RetCode: 0 Status: OK PackageFile: BiocPkgTools_1.27.12.tar.gz PackageFileSize: 1.465 MiB