Package: BiocParallel Version: 1.43.4 Command: /home/biocbuild/R/R/bin/R CMD INSTALL BiocParallel StartedAt: 2025-10-13 20:34:29 -0000 (Mon, 13 Oct 2025) EndedAt: 2025-10-13 20:34:59 -0000 (Mon, 13 Oct 2025) EllapsedTime: 30.2 seconds RetCode: 0 Status: OK