Package: BiocParallel Version: 1.43.4 Command: /home/biocbuild/R/R/bin/R CMD build --keep-empty-dirs --no-resave-data BiocParallel StartedAt: 2025-10-13 22:40:45 -0000 (Mon, 13 Oct 2025) EndedAt: 2025-10-13 22:42:29 -0000 (Mon, 13 Oct 2025) EllapsedTime: 104.0 seconds RetCode: 0 Status: OK PackageFile: BiocParallel_1.43.4.tar.gz PackageFileSize: 1.149 MiB