Package: BiocParallel Version: 1.41.1 Command: rm -rf BiocParallel.buildbin-libdir && mkdir BiocParallel.buildbin-libdir && /Users/biocbuild/BBS/utils/build-universal.sh BiocParallel_1.41.1.tar.gz /Library/Frameworks/R.framework/Resources/bin/R BiocParallel.buildbin-libdir StartedAt: 2025-02-17 00:11:47 -0500 (Mon, 17 Feb 2025) EndedAt: 2025-02-17 00:12:18 -0500 (Mon, 17 Feb 2025) EllapsedTime: 31.4 seconds RetCode: 0 Status: OK PackageFile: BiocParallel_1.41.1.tgz PackageFileSize: 1.535 MiB