Package: BiocParallel Version: 1.41.0 Command: /home/biocbuild/R/R/bin/R CMD INSTALL BiocParallel StartedAt: 2025-01-29 19:44:23 -0000 (Wed, 29 Jan 2025) EndedAt: 2025-01-29 19:44:50 -0000 (Wed, 29 Jan 2025) EllapsedTime: 26.4 seconds RetCode: 0 Status: OK