Package: BiocParallel Version: 1.41.0 Command: /home/biocbuild/R/R/bin/R CMD build --keep-empty-dirs --no-resave-data BiocParallel StartedAt: 2025-01-28 21:14:06 -0000 (Tue, 28 Jan 2025) EndedAt: 2025-01-28 21:16:36 -0000 (Tue, 28 Jan 2025) EllapsedTime: 150.0 seconds RetCode: 0 Status: OK PackageFile: BiocParallel_1.41.0.tar.gz PackageFileSize: 1010 KiB