############################################################################## ############################################################################## ### ### Running command: ### ### /home/biocbuild/bbs-3.21-bioc/R/bin/R CMD INSTALL BiocOncoTK ### ############################################################################## ############################################################################## * installing to library ‘/home/biocbuild/bbs-3.21-bioc/R/site-library’ ERROR: dependency ‘curatedTCGAData’ is not available for package ‘BiocOncoTK’ Perhaps try a variation of: install.packages('curatedTCGAData') * removing ‘/home/biocbuild/bbs-3.21-bioc/R/site-library/BiocOncoTK’