Package: BiocIO Version: 1.19.0 Command: chmod a+r BiocIO -R && F:\biocbuild\bbs-3.22-bioc\R\bin\R.exe CMD build --keep-empty-dirs --no-resave-data BiocIO StartedAt: 2025-08-14 18:44:21 -0400 (Thu, 14 Aug 2025) EndedAt: 2025-08-14 18:44:43 -0400 (Thu, 14 Aug 2025) EllapsedTime: 21.3 seconds RetCode: 0 Status: OK PackageFile: BiocIO_1.19.0.tar.gz PackageFileSize: 226.6 KiB