Package: BiocIO Version: 1.19.0 Command: rm -rf BiocIO.buildbin-libdir && mkdir BiocIO.buildbin-libdir && F:\biocbuild\bbs-3.22-bioc\R\bin\R.exe CMD INSTALL --build --library=BiocIO.buildbin-libdir BiocIO_1.19.0.tar.gz StartedAt: 2025-08-15 09:49:18 -0400 (Fri, 15 Aug 2025) EndedAt: 2025-08-15 09:49:43 -0400 (Fri, 15 Aug 2025) EllapsedTime: 24.8 seconds RetCode: 0 Status: OK PackageFile: BiocIO_1.19.0.zip PackageFileSize: 417.4 KiB