Package: BiocIO Version: 1.17.1 Command: E:\biocbuild\bbs-3.21-bioc\R\bin\R.exe CMD INSTALL BiocIO StartedAt: 2025-02-03 15:41:05 -0500 (Mon, 03 Feb 2025) EndedAt: 2025-02-03 15:41:20 -0500 (Mon, 03 Feb 2025) EllapsedTime: 15.1 seconds RetCode: 0 Status: OK