Package: BiocIO Version: 1.17.1 Command: /Library/Frameworks/R.framework/Resources/bin/R CMD INSTALL BiocIO StartedAt: 2025-02-04 15:07:24 -0500 (Tue, 04 Feb 2025) EndedAt: 2025-02-04 15:07:57 -0500 (Tue, 04 Feb 2025) EllapsedTime: 33.3 seconds RetCode: 0 Status: OK