Package: BiocIO Version: 1.17.1 Command: /Library/Frameworks/R.framework/Resources/bin/R CMD INSTALL BiocIO StartedAt: 2025-02-03 15:38:23 -0500 (Mon, 03 Feb 2025) EndedAt: 2025-02-03 15:38:27 -0500 (Mon, 03 Feb 2025) EllapsedTime: 3.8 seconds RetCode: 0 Status: OK