Package: BiocIO Version: 1.17.1 Command: rm -rf BiocIO.buildbin-libdir && mkdir BiocIO.buildbin-libdir && /Users/biocbuild/BBS/utils/build-universal.sh BiocIO_1.17.1.tar.gz /Library/Frameworks/R.framework/Resources/bin/R BiocIO.buildbin-libdir StartedAt: 2025-02-03 22:43:05 -0500 (Mon, 03 Feb 2025) EndedAt: 2025-02-03 22:43:08 -0500 (Mon, 03 Feb 2025) EllapsedTime: 3.1 seconds RetCode: 0 Status: OK PackageFile: BiocIO_1.17.1.tgz PackageFileSize: 418 KiB