Package: BiocHubsShiny Version: 1.7.4 Command: chmod a+r BiocHubsShiny -R && E:\biocbuild\bbs-3.21-bioc\R\bin\R.exe CMD build --keep-empty-dirs --no-resave-data BiocHubsShiny StartedAt: 2025-02-09 17:28:34 -0500 (Sun, 09 Feb 2025) EndedAt: 2025-02-09 17:29:10 -0500 (Sun, 09 Feb 2025) EllapsedTime: 36.1 seconds RetCode: 0 Status: OK PackageFile: BiocHubsShiny_1.7.4.tar.gz PackageFileSize: 1.603 MiB