Package: BiocHubsShiny Version: 1.7.4 Command: /home/biocbuild/bbs-3.21-bioc/R/bin/R CMD INSTALL BiocHubsShiny StartedAt: 2025-02-05 15:25:55 -0500 (Wed, 05 Feb 2025) EndedAt: 2025-02-05 15:26:09 -0500 (Wed, 05 Feb 2025) EllapsedTime: 14.7 seconds RetCode: 0 Status: OK