Package: BiocHubsShiny Version: 1.7.4 Command: /home/biocbuild/bbs-3.21-bioc/R/bin/R CMD check --install=check:BiocHubsShiny.install-out.txt --library=/home/biocbuild/bbs-3.21-bioc/R/site-library --timings BiocHubsShiny_1.7.4.tar.gz StartedAt: 2025-02-17 20:14:10 -0500 (Mon, 17 Feb 2025) EndedAt: 2025-02-17 20:16:28 -0500 (Mon, 17 Feb 2025) EllapsedTime: 137.3 seconds RetCode: 0 Status: OK CheckDir: BiocHubsShiny.Rcheck Warnings: 0