Package: BiocHubsShiny Version: 1.9.2 Command: rm -rf BiocHubsShiny.buildbin-libdir && mkdir BiocHubsShiny.buildbin-libdir && /Users/biocbuild/BBS/utils/build-universal.sh BiocHubsShiny_1.9.2.tar.gz /Library/Frameworks/R.framework/Resources/bin/R BiocHubsShiny.buildbin-libdir StartedAt: 2025-10-04 01:54:52 -0400 (Sat, 04 Oct 2025) EndedAt: 2025-10-04 01:55:16 -0400 (Sat, 04 Oct 2025) EllapsedTime: 24.6 seconds RetCode: 0 Status: OK PackageFile: BiocHubsShiny_1.9.2.tgz PackageFileSize: 741.4 KiB