Package: BiocHubsShiny Version: 1.7.4 Command: /Library/Frameworks/R.framework/Resources/bin/R CMD INSTALL BiocHubsShiny StartedAt: 2025-02-05 15:18:05 -0500 (Wed, 05 Feb 2025) EndedAt: 2025-02-05 15:18:11 -0500 (Wed, 05 Feb 2025) EllapsedTime: 6.0 seconds RetCode: 0 Status: OK