Package: BiocHubsShiny Version: 1.7.4 Command: /Library/Frameworks/R.framework/Resources/bin/R CMD check --install=check:BiocHubsShiny.install-out.txt --library=/Library/Frameworks/R.framework/Resources/library --no-vignettes --timings BiocHubsShiny_1.7.4.tar.gz StartedAt: 2025-02-05 18:18:17 -0500 (Wed, 05 Feb 2025) EndedAt: 2025-02-05 18:19:07 -0500 (Wed, 05 Feb 2025) EllapsedTime: 49.7 seconds RetCode: 0 Status: OK CheckDir: BiocHubsShiny.Rcheck Warnings: 0