Package: BiocHubsShiny Version: 1.7.4 Command: /Library/Frameworks/R.framework/Resources/bin/R CMD build --keep-empty-dirs --no-resave-data BiocHubsShiny StartedAt: 2025-02-05 15:41:40 -0500 (Wed, 05 Feb 2025) EndedAt: 2025-02-05 15:41:49 -0500 (Wed, 05 Feb 2025) EllapsedTime: 8.1 seconds RetCode: 0 Status: OK PackageFile: BiocHubsShiny_1.7.4.tar.gz PackageFileSize: 1.603 MiB