Package: BiocHail Version: 1.9.4 Command: /home/biocbuild/R/R/bin/R CMD build --keep-empty-dirs --no-resave-data BiocHail StartedAt: 2025-10-06 22:09:13 -0000 (Mon, 06 Oct 2025) EndedAt: 2025-10-06 22:09:59 -0000 (Mon, 06 Oct 2025) EllapsedTime: 46.0 seconds RetCode: 0 Status: OK PackageFile: BiocHail_1.9.4.tar.gz PackageFileSize: 2.644 MiB