Package: BiocGenerics Version: 0.57.0 Command: /home/biocbuild/bbs-3.23-bioc/R/bin/R CMD INSTALL BiocGenerics StartedAt: 2025-11-02 15:17:55 -0500 (Sun, 02 Nov 2025) EndedAt: 2025-11-02 15:18:06 -0500 (Sun, 02 Nov 2025) EllapsedTime: 10.7 seconds RetCode: 0 Status: OK