Package: BiocFHIR Version: 1.9.0 Command: /home/biocbuild/bbs-3.21-bioc/R/bin/R CMD INSTALL BiocFHIR StartedAt: 2025-02-16 15:18:53 -0500 (Sun, 16 Feb 2025) EndedAt: 2025-02-16 15:18:59 -0500 (Sun, 16 Feb 2025) EllapsedTime: 5.8 seconds RetCode: 0 Status: OK