Package: BiocCheck Version: 1.45.12 Command: rm -rf BiocCheck.buildbin-libdir && mkdir BiocCheck.buildbin-libdir && F:\biocbuild\bbs-3.22-bioc\R\bin\R.exe CMD INSTALL --build --library=BiocCheck.buildbin-libdir BiocCheck_1.45.12.tar.gz StartedAt: 2025-08-15 09:48:53 -0400 (Fri, 15 Aug 2025) EndedAt: 2025-08-15 09:49:59 -0400 (Fri, 15 Aug 2025) EllapsedTime: 66.7 seconds RetCode: 0 Status: OK PackageFile: BiocCheck_1.45.12.zip PackageFileSize: 662.9 KiB