Package: BiocCheck Version: 1.43.4 Command: /home/biocbuild/bbs-3.21-bioc/R/bin/R CMD check --install=check:BiocCheck.install-out.txt --library=/home/biocbuild/bbs-3.21-bioc/R/site-library --timings BiocCheck_1.43.4.tar.gz StartedAt: 2025-02-03 20:31:12 -0500 (Mon, 03 Feb 2025) EndedAt: 2025-02-03 20:34:40 -0500 (Mon, 03 Feb 2025) EllapsedTime: 207.6 seconds RetCode: 0 Status: OK CheckDir: BiocCheck.Rcheck Warnings: 0