Back to Multiple platform build/check report for BioC 3.22:   simplified   long
A[B]CDEFGHIJKLMNOPQRSTUVWXYZ

This page was generated on 2025-05-07 12:03 -0400 (Wed, 07 May 2025).

HostnameOSArch (*)R versionInstalled pkgs
nebbiolo2Linux (Ubuntu 24.04.1 LTS)x86_644.5.0 (2025-04-11) -- "How About a Twenty-Six" 4745
palomino8Windows Server 2022 Datacenterx644.5.0 (2025-04-11 ucrt) -- "How About a Twenty-Six" 4506
lconwaymacOS 12.7.1 Montereyx86_644.5.0 Patched (2025-04-21 r88169) -- "How About a Twenty-Six" 4546
kjohnson3macOS 13.7.1 Venturaarm644.5.0 Patched (2025-04-21 r88169) -- "How About a Twenty-Six" 4487
taishanLinux (openEuler 24.03 LTS)aarch644.5.0 (2025-04-11) -- "How About a Twenty-Six" 4441
Click on any hostname to see more info about the system (e.g. compilers)      (*) as reported by 'uname -p', except on Windows and Mac OS X

All results for package BiocCheck


To the developers/maintainers of the BiocCheck package:
- Allow up to 24 hours (and sometimes 48 hours) for your latest push to git@git.bioconductor.org:packages/BiocCheck.git to reflect on this report. See Troubleshooting Build Report for more information.
- Use the following Renviron settings to reproduce errors and warnings.
- If 'R CMD check' started to fail recently on the Linux builder(s) over a missing dependency, add the missing dependency to 'Suggests:' in your DESCRIPTION file. See Renviron.bioc for more information.

raw results

Package 181/2304HostnameOS / ArchINSTALLBUILDCHECKBUILD BIN
BiocCheck 1.45.6  (landing page)
Marcel Ramos
Snapshot Date: 2025-05-06 13:00 -0400 (Tue, 06 May 2025)
git_url: https://git.bioconductor.org/packages/BiocCheck
git_branch: devel
git_last_commit: d1618aa
git_last_commit_date: 2025-05-02 18:39:04 -0400 (Fri, 02 May 2025)
nebbiolo2Linux (Ubuntu 24.04.1 LTS) / x86_64  OK    OK    OK  UNNEEDED, same version is already published
palomino8Windows Server 2022 Datacenter / x64  OK    OK    OK    OK  UNNEEDED, same version is already published
lconwaymacOS 12.7.1 Monterey / x86_64  OK    OK    OK    OK  UNNEEDED, same version is already published
kjohnson3macOS 13.7.1 Ventura / arm64  OK    OK    OK    OK  UNNEEDED, same version is already published
taishanLinux (openEuler 24.03 LTS) / aarch64  OK    OK    TIMEOUT  



Results for Bioconductor software packages that depend directly on package BiocCheck

QUICK STATSOS / ArchINSTALLBUILDCHECKBUILD BIN
nebbiolo2Linux (Ubuntu 24.04.1 LTS) / x86_64
003
003
0021
palomino8Windows Server 2022 Datacenter / x64
002
002
0011
002
lconwaymacOS 12.7.1 Monterey / x86_64
003
003
0021
003
kjohnson3macOS 13.7.1 Ventura / arm64
003
003
0021
003
taishanLinux (openEuler 24.03 LTS) / aarch64
003
012
0011
Package 1/3HostnameOS / ArchINSTALLBUILDCHECKBUILD BIN
AnnotationHubData 1.39.1  (landing page)
Bioconductor Package Maintainer
git_last_commit: 431b17b
git_last_commit_date: 2025-04-21 13:01:12 -0400
nebbiolo2Linux (Ubuntu 24.04.1 LTS) / x86_64  OK    OK    WARNINGS  UNNEEDED, same version is already published
palomino8Windows Server 2022 Datacenter / x64  OK    OK    WARNINGS    OK  UNNEEDED, same version is already published
lconwaymacOS 12.7.1 Monterey / x86_64  OK    OK    WARNINGS    OK  UNNEEDED, same version is already published
kjohnson3macOS 13.7.1 Ventura / arm64  OK    OK    WARNINGS    OK  UNNEEDED, same version is already published
taishanLinux (openEuler 24.03 LTS) / aarch64  OK    OK    WARNINGS  
Package 2/3HostnameOS / ArchINSTALLBUILDCHECKBUILD BIN
gDRstyle 1.7.1  (landing page)
Arkadiusz Gladki
git_last_commit: e37216f
git_last_commit_date: 2025-04-17 04:16:52 -0400
nebbiolo2Linux (Ubuntu 24.04.1 LTS) / x86_64  OK    OK    OK  UNNEEDED, same version is already published
palomino8Windows Server 2022 Datacenter / x64  OK    OK    OK    OK  UNNEEDED, same version is already published
lconwaymacOS 12.7.1 Monterey / x86_64  OK    OK    OK    OK  UNNEEDED, same version is already published
kjohnson3macOS 13.7.1 Ventura / arm64  OK    OK    OK    OK  UNNEEDED, same version is already published
taishanLinux (openEuler 24.03 LTS) / aarch64  OK    OK    OK  
Package 3/3HostnameOS / ArchINSTALLBUILDCHECKBUILD BIN
methodical 1.5.0  (landing page)
Richard Heery
git_last_commit: 071c5e5
git_last_commit_date: 2025-04-15 13:26:47 -0400
nebbiolo2Linux (Ubuntu 24.04.1 LTS) / x86_64  OK    OK    WARNINGS  NO, package depends on 'annotatr' which is not available
palomino8Windows Server 2022 Datacenter / x64... NOT SUPPORTED ...
lconwaymacOS 12.7.1 Monterey / x86_64  OK    OK    WARNINGS    OK  NO, package depends on 'annotatr' which is not available
kjohnson3macOS 13.7.1 Ventura / arm64  OK    OK    WARNINGS    OK  NO, package depends on 'annotatr' which is not available
taishanLinux (openEuler 24.03 LTS) / aarch64  OK    ERROR  skipped