Package: BiocBook Version: 1.7.0 Command: /Library/Frameworks/R.framework/Resources/bin/R CMD build --keep-empty-dirs --no-resave-data BiocBook StartedAt: 2025-05-09 15:46:36 -0400 (Fri, 09 May 2025) EndedAt: 2025-05-09 15:46:53 -0400 (Fri, 09 May 2025) EllapsedTime: 16.2 seconds RetCode: 1 Status: ERROR PackageFile: None PackageFileSize: NA