Package: BiocBaseUtils Version: 1.11.2 Command: /Library/Frameworks/R.framework/Resources/bin/R CMD INSTALL BiocBaseUtils StartedAt: 2025-07-22 15:04:29 -0400 (Tue, 22 Jul 2025) EndedAt: 2025-07-22 15:05:07 -0400 (Tue, 22 Jul 2025) EllapsedTime: 37.4 seconds RetCode: 0 Status: OK