Package: BiocBaseUtils Version: 1.11.2 Command: /Library/Frameworks/R.framework/Resources/bin/R CMD build --keep-empty-dirs --no-resave-data BiocBaseUtils StartedAt: 2025-07-27 16:06:15 -0400 (Sun, 27 Jul 2025) EndedAt: 2025-07-27 16:06:22 -0400 (Sun, 27 Jul 2025) EllapsedTime: 6.9 seconds RetCode: 0 Status: OK PackageFile: BiocBaseUtils_1.11.2.tar.gz PackageFileSize: 226.3 KiB