Package: Bioc.gff Version: 1.1.0 Command: /Library/Frameworks/R.framework/Resources/bin/R CMD build --keep-empty-dirs --no-resave-data Bioc.gff StartedAt: 2025-11-24 15:44:56 -0500 (Mon, 24 Nov 2025) EndedAt: 2025-11-24 15:45:20 -0500 (Mon, 24 Nov 2025) EllapsedTime: 24.3 seconds RetCode: 0 Status: OK PackageFile: Bioc.gff_1.1.0.tar.gz PackageFileSize: 264.7 KiB