Package: BioTIP Version: 1.21.0 Command: rm -rf BioTIP.buildbin-libdir && mkdir BioTIP.buildbin-libdir && E:\biocbuild\bbs-3.21-bioc\R\bin\R.exe CMD INSTALL --build --library=BioTIP.buildbin-libdir BioTIP_1.21.0.tar.gz StartedAt: 2025-02-04 07:34:38 -0500 (Tue, 04 Feb 2025) EndedAt: 2025-02-04 07:35:26 -0500 (Tue, 04 Feb 2025) EllapsedTime: 47.7 seconds RetCode: 0 Status: OK PackageFile: BioTIP_1.21.0.zip PackageFileSize: 6.049 MiB